BEGIN:VCALENDAR
VERSION:2.0
PRODID:-//Plone.org//NONSGML plone.app.event//EN
X-WR-TIMEZONE:Brazil/East
BEGIN:VEVENT
SUMMARY:Reunião Ordinária
DTSTART;TZID=Brazil/East;VALUE=DATE-TIME:20260406T190000
DTSTAMP;VALUE=DATE-TIME:20260419T120529Z
UID:9f5e27658cea4d14a736e89cfc2b276f@www.guarara.mg.leg.br
CREATED;VALUE=DATE-TIME:20260115T115916Z
LAST-MODIFIED;VALUE=DATE-TIME:20260115T120011Z
LOCATION:Plenário da Câmara Municipal
URL:https://www.guarara.mg.leg.br/institucional/eventos/reuniao-ordinaria-
 4
END:VEVENT
BEGIN:VEVENT
SUMMARY:4ª Reunião Ordinária
DTSTART;TZID=Brazil/East;VALUE=DATE-TIME:20260323T190000
DTSTAMP;VALUE=DATE-TIME:20260419T120529Z
UID:4a93a74a2978443598b1b99cea7ccb62@www.guarara.mg.leg.br
CREATED;VALUE=DATE-TIME:20260115T115854Z
DESCRIPTION:Clique no título para acessar a Pauta da 4ª Reunião Ordiná
 ria
LAST-MODIFIED;VALUE=DATE-TIME:20260318T112445Z
LOCATION:Plenário da Câmara Municipal
URL:https://www.guarara.mg.leg.br/institucional/eventos/reuniao-ordinaria-
 3
END:VEVENT
BEGIN:VEVENT
SUMMARY:3ª Reunião Ordinária
DTSTART;TZID=Brazil/East;VALUE=DATE-TIME:20260305T190000
DTSTAMP;VALUE=DATE-TIME:20260419T120529Z
UID:c3663411b6b34a80be21cbdadb000145@www.guarara.mg.leg.br
CREATED;VALUE=DATE-TIME:20260115T115815Z
DESCRIPTION:Clique no título para acessar a Pauta da 3ª Reunião Ordiná
 ria do dia 05/03/2026\n\n
LAST-MODIFIED;VALUE=DATE-TIME:20260318T112708Z
LOCATION:Plenário da Câmara Municipal
URL:https://www.guarara.mg.leg.br/institucional/eventos/reuniao-ordinaria-
 2
END:VEVENT
BEGIN:VEVENT
SUMMARY:2ª Reunião Ordinária
DTSTART;TZID=Brazil/East;VALUE=DATE-TIME:20260220T190000
DTSTAMP;VALUE=DATE-TIME:20260419T120529Z
UID:3b4e8532803943d6acb44cddc55cd462@www.guarara.mg.leg.br
CREATED;VALUE=DATE-TIME:20260115T115626Z
DESCRIPTION:Clique no título para acessar a Pauta da 2ª Reunião Ordiná
 ria
LAST-MODIFIED;VALUE=DATE-TIME:20260318T112945Z
LOCATION:Plenário da Câmara Municipal
URL:https://www.guarara.mg.leg.br/institucional/eventos/reuniao-ordinaria-
 1
END:VEVENT
BEGIN:VEVENT
SUMMARY:1ª Reunião Ordinária
DTSTART;TZID=Brazil/East;VALUE=DATE-TIME:20260205T190000
DTSTAMP;VALUE=DATE-TIME:20260419T120529Z
UID:b0babf0aa3ff40ba944ca79d475198dd@www.guarara.mg.leg.br
CREATED;VALUE=DATE-TIME:20260115T120853Z
DESCRIPTION:Clique no título para acessar a Pauta da 1ª Reunião Ordiná
 ria
LAST-MODIFIED;VALUE=DATE-TIME:20260318T112832Z
LOCATION:Plenário da Câmara Municipal
URL:https://www.guarara.mg.leg.br/institucional/eventos/reuniao-ordinaria-
 19
END:VEVENT
BEGIN:VTIMEZONE
TZID:Brazil/East
X-LIC-LOCATION:Brazil/East
BEGIN:DAYLIGHT
DTSTART;VALUE=DATE-TIME:20251019T010000
TZNAME:BRST
TZOFFSETFROM:-0300
TZOFFSETTO:-0200
END:DAYLIGHT
BEGIN:STANDARD
DTSTART;VALUE=DATE-TIME:20260221T230000
TZNAME:BRT
TZOFFSETFROM:-0200
TZOFFSETTO:-0300
END:STANDARD
END:VTIMEZONE
END:VCALENDAR
